BEGIN:VCALENDAR
VERSION:2.0
CALSCALE:GREGORIAN
BEGIN:VEVENT
CREATED:20240129T184554Z
UID:1056
DTSTART;TZID=America/Chicago:20241007T090000
DTEND;TZID=America/Chicago:20241007T170000
DTSTAMP:20260420T122613Z
LOCATION:Glo Medical Aesthetics - 703 New York Street\, Memphis\, TN 38104
DESCRIPTION:Glo has been in business for a DECADE! October 7th, 2024 officially marks Glo Medical Aesthetics being in business for 10 years!
SUMMARY:10 Year Anniversary
ORGANIZER:Glo Medical Aesthetics
URL;VALUE=URI:https://www.glomedmemphis.com/event/event-example/
TRANSP:OPAQUE
BEGIN:VALARM
ACTION:DISPLAY
TRIGGER;VALUE=DATE-TIME:20241007T080000
DESCRIPTION:Reminder for Glo&#8217\;s 11-Year Anniversary Celebration
END:VALARM
END:VEVENT
END:VCALENDAR